BEGIN:VCALENDAR
VERSION:2.0
PRODID:-//Canyon Country - ECPv5.15.0//NONSGML v1.0//EN
CALSCALE:GREGORIAN
METHOD:PUBLISH
X-WR-CALNAME:Canyon Country
X-ORIGINAL-URL:https://www.canyoncountry.ca
X-WR-CALDESC:Events for Canyon Country
REFRESH-INTERVAL;VALUE=DURATION:PT1H
X-Robots-Tag:noindex
X-PUBLISHED-TTL:PT1H
BEGIN:VTIMEZONE
TZID:America/Toronto
BEGIN:DAYLIGHT
TZOFFSETFROM:-0500
TZOFFSETTO:-0400
TZNAME:EDT
DTSTART:20220313T070000
END:DAYLIGHT
BEGIN:STANDARD
TZOFFSETFROM:-0400
TZOFFSETTO:-0500
TZNAME:EST
DTSTART:20221106T060000
END:STANDARD
END:VTIMEZONE
BEGIN:VEVENT
DTSTART;TZID=America/Toronto:20220531T130000
DTEND;TZID=America/Toronto:20220531T150000
DTSTAMP:20260422T091647
CREATED:20220412T155506Z
LAST-MODIFIED:20220412T155506Z
UID:1150-1654002000-1654009200@www.canyoncountry.ca
SUMMARY:AGM
DESCRIPTION:Annual General Meeting. \nJoin us!  Come and meet your neighbours.  Participate in the change you want to see\, and share your ideas for making the Co-op even better. \nSnacks and light refreshments will be served.
URL:https://www.canyoncountry.ca/event/agm/
LOCATION:Canyon Country Co-op\, 920 Hwy 11/17\, Dorion\, Ontario\, P0T 1K0\, Canada
ORGANIZER;CN="Canyon%20Country%20Co-op":MAILTO:canyoncc920@gmail.com
END:VEVENT
END:VCALENDAR