BEGIN:VCALENDAR
VERSION:2.0
PRODID:-//Canyon Country - ECPv5.15.0//NONSGML v1.0//EN
CALSCALE:GREGORIAN
METHOD:PUBLISH
X-WR-CALNAME:Canyon Country
X-ORIGINAL-URL:https://www.canyoncountry.ca
X-WR-CALDESC:Events for Canyon Country
REFRESH-INTERVAL;VALUE=DURATION:PT1H
X-Robots-Tag:noindex
X-PUBLISHED-TTL:PT1H
BEGIN:VTIMEZONE
TZID:America/Toronto
BEGIN:DAYLIGHT
TZOFFSETFROM:-0500
TZOFFSETTO:-0400
TZNAME:EDT
DTSTART:20220313T070000
END:DAYLIGHT
BEGIN:STANDARD
TZOFFSETFROM:-0400
TZOFFSETTO:-0500
TZNAME:EST
DTSTART:20221106T060000
END:STANDARD
END:VTIMEZONE
BEGIN:VEVENT
DTSTART;TZID=America/Toronto:20220723T110000
DTEND;TZID=America/Toronto:20220723T160000
DTSTAMP:20260422T080341
CREATED:20220412T164852Z
LAST-MODIFIED:20220412T164858Z
UID:1164-1658574000-1658592000@www.canyoncountry.ca
SUMMARY:Farmer's Market
DESCRIPTION:Produce and beyond. \nWe welcome everyone: Produce\, beauty and home products\, arts and crafts\, baked goods\, preserves\, gourmet dog treats\, plants and planting supplies\, or resale items!  Join us. \nWant to become a vendor?  Email canyoncc920@gmail.com.  $10/day\, per table.
URL:https://www.canyoncountry.ca/event/farmers-market-4/
LOCATION:Canyon Country Co-op\, 920 Hwy 11/17\, Dorion\, Ontario\, P0T 1K0\, Canada
ORGANIZER;CN="Canyon%20Country%20Co-op":MAILTO:canyoncc920@gmail.com
END:VEVENT
END:VCALENDAR